BEGIN:VCALENDAR
VERSION:2.0
PRODID:-//Colorado Pug Rescue - ECPv6.15.1.1//NONSGML v1.0//EN
CALSCALE:GREGORIAN
METHOD:PUBLISH
X-WR-CALNAME:Colorado Pug Rescue
X-ORIGINAL-URL:https://copugrescue.org
X-WR-CALDESC:Events for Colorado Pug Rescue
REFRESH-INTERVAL;VALUE=DURATION:PT1H
X-Robots-Tag:noindex
X-PUBLISHED-TTL:PT1H
BEGIN:VTIMEZONE
TZID:America/Denver
BEGIN:DAYLIGHT
TZOFFSETFROM:-0700
TZOFFSETTO:-0600
TZNAME:MDT
DTSTART:20150308T090000
END:DAYLIGHT
BEGIN:STANDARD
TZOFFSETFROM:-0600
TZOFFSETTO:-0700
TZNAME:MST
DTSTART:20151101T080000
END:STANDARD
BEGIN:DAYLIGHT
TZOFFSETFROM:-0700
TZOFFSETTO:-0600
TZNAME:MDT
DTSTART:20160313T090000
END:DAYLIGHT
BEGIN:STANDARD
TZOFFSETFROM:-0600
TZOFFSETTO:-0700
TZNAME:MST
DTSTART:20161106T080000
END:STANDARD
BEGIN:DAYLIGHT
TZOFFSETFROM:-0700
TZOFFSETTO:-0600
TZNAME:MDT
DTSTART:20170312T090000
END:DAYLIGHT
BEGIN:STANDARD
TZOFFSETFROM:-0600
TZOFFSETTO:-0700
TZNAME:MST
DTSTART:20171105T080000
END:STANDARD
END:VTIMEZONE
BEGIN:VEVENT
DTSTART;TZID=America/Denver:20170211T110000
DTEND;TZID=America/Denver:20170211T140000
DTSTAMP:20260425T092359
CREATED:20170111T221226Z
LAST-MODIFIED:20170111T221226Z
UID:8365-1486810800-1486821600@copugrescue.org
SUMMARY:Petco Be-My-Love-Pug Party
DESCRIPTION:
URL:https://copugrescue.org/events/petco-love-pug-party/
LOCATION:Petco CO Spgs East\, 1650 E. Cheyenne Mountain Blvd.\, Colorado Springs\, CO\, 80906\, United States
END:VEVENT
BEGIN:VEVENT
DTSTART;TZID=America/Denver:20170128T110000
DTEND;TZID=America/Denver:20170128T140000
DTSTAMP:20260425T092359
CREATED:20170111T221053Z
LAST-MODIFIED:20170111T221053Z
UID:8363-1485601200-1485612000@copugrescue.org
SUMMARY:Petco Meet-and-Greet
DESCRIPTION:
URL:https://copugrescue.org/events/petco-meet-greet-2/
LOCATION:Petco Highl Ranch\, 9567 S. University Blvd.\, A101\, Highlands Ranch\, CO\, United States
END:VEVENT
BEGIN:VEVENT
DTSTART;TZID=America/Denver:20170114T110000
DTEND;TZID=America/Denver:20170114T140000
DTSTAMP:20260425T092359
CREATED:20170111T220626Z
LAST-MODIFIED:20170111T220626Z
UID:8359-1484391600-1484402400@copugrescue.org
SUMMARY:Petco Meet-and-Greet
DESCRIPTION:
URL:https://copugrescue.org/events/petco-meet-greet/
LOCATION:Petco CO Spgs East\, 1650 E. Cheyenne Mountain Blvd.\, Colorado Springs\, CO\, 80906\, United States
END:VEVENT
BEGIN:VEVENT
DTSTART;TZID=America/Denver:20161211T110000
DTEND;TZID=America/Denver:20161211T140000
DTSTAMP:20260425T092359
CREATED:20161104T204104Z
LAST-MODIFIED:20161104T204104Z
UID:8261-1481454000-1481464800@copugrescue.org
SUMMARY:Pugly Holiday Sweater Party
DESCRIPTION:
URL:https://copugrescue.org/events/pugly-holiday-sweater-party-3/
LOCATION:Chuck & Don’s Pet Food Outlet – Aurora\, 6380 S. Parker Rd.\, Suite 107\, Aurora\, CO\, 80016\, United States
END:VEVENT
BEGIN:VEVENT
DTSTART;TZID=America/Denver:20161112T110000
DTEND;TZID=America/Denver:20161112T140000
DTSTAMP:20260425T092359
CREATED:20161104T203015Z
LAST-MODIFIED:20161104T203015Z
UID:8257-1478948400-1478959200@copugrescue.org
SUMMARY:Meet-n-Greet/Turkey Day Photos
DESCRIPTION:Bring your pug for a turkey photo op!
URL:https://copugrescue.org/events/meet-n-greetturkey-day-photos/
LOCATION:Kriser’s of Highlands Ranch\, 9362 S. Colorado Blvd.\, Highlands Ranch\, CO\, 80126\, United States
END:VEVENT
BEGIN:VEVENT
DTSTART;TZID=America/Denver:20161022T110000
DTEND;TZID=America/Denver:20161022T140000
DTSTAMP:20260425T092359
CREATED:20161003T190710Z
LAST-MODIFIED:20161004T230317Z
UID:8240-1477134000-1477144800@copugrescue.org
SUMMARY:Pug-o-ween Party
DESCRIPTION:Join us for free treats\, the CPR booth\, and a 12:30 costume contest!
URL:https://copugrescue.org/events/pug-o-ween-party/
LOCATION:Chuck & Don’s Pet Food Outlet – Lakewood\, 1535 S Kipling Pkwy.\, Lakewood\, CO\, United States
END:VEVENT
BEGIN:VEVENT
DTSTART;TZID=America/Denver:20161015T180000
DTEND;TZID=America/Denver:20161015T180000
DTSTAMP:20260425T092359
CREATED:20160911T205651Z
LAST-MODIFIED:20161003T191959Z
UID:8182-1476554400-1476554400@copugrescue.org
SUMMARY:Halloween Party Fundraiser
DESCRIPTION:We love pugs\, but this event is for humans only\, please. To purchase tickets\, please click here.
URL:https://copugrescue.org/events/halloween-party-fundraiser/
LOCATION:Deep Space Event Center\, 11020 S. Pikes Peak Dr.\, Parker\, CO\, 80138\, United States
END:VEVENT
BEGIN:VEVENT
DTSTART;VALUE=DATE:20160926
DTEND;VALUE=DATE:20161002
DTSTAMP:20260425T092359
CREATED:20160706T030038Z
LAST-MODIFIED:20160706T030038Z
UID:8119-1474848000-1475366399@copugrescue.org
SUMMARY:Pug Dog Club of America Nat'l Specialty
DESCRIPTION:Hours will be announced later.
URL:https://copugrescue.org/events/pug-dog-club-america-natl-specialty/
LOCATION:Crowne Plaza Hotel\, 15500 E. 40th St.\, Denver\, CO\, 80239\, United States
END:VEVENT
BEGIN:VEVENT
DTSTART;TZID=America/Denver:20160918T110000
DTEND;TZID=America/Denver:20160918T160000
DTSTAMP:20260425T092359
CREATED:20160416T022551Z
LAST-MODIFIED:20160416T022551Z
UID:8000-1474196400-1474214400@copugrescue.org
SUMMARY:Pugs in the Park
DESCRIPTION:
URL:https://copugrescue.org/events/pugs-park-2/
LOCATION:Central Park\, 8801 E. Martin Luther King Blvd.\, Denver\, CO\, 80238\, United States
END:VEVENT
BEGIN:VEVENT
DTSTART;TZID=America/Denver:20160820T100000
DTEND;TZID=America/Denver:20160821T160000
DTSTAMP:20260425T092359
CREATED:20160416T022359Z
LAST-MODIFIED:20160416T022359Z
UID:7999-1471687200-1471795200@copugrescue.org
SUMMARY:Denver Pet Expo
DESCRIPTION:Times vary by date as follows: \n8/20:  10 am – 6 pm\n8/21:  11 am – 4 pm
URL:https://copugrescue.org/events/denver-pet-expo-2/
LOCATION:Denver Merchandise Mart\, 451 E 58th Ave.\, Denver\, CO\, 80216\, United States
END:VEVENT
BEGIN:VEVENT
DTSTART;TZID=America/Denver:20160813T110000
DTEND;TZID=America/Denver:20160813T140000
DTSTAMP:20260425T092359
CREATED:20160810T152325Z
LAST-MODIFIED:20160810T152325Z
UID:8133-1471086000-1471096800@copugrescue.org
SUMMARY:Meet and Greet
DESCRIPTION:
URL:https://copugrescue.org/events/meet-greet-2/
LOCATION:Chuck & Don’s Pet Food Outlet – Aurora\, 6380 S. Parker Rd.\, Suite 107\, Aurora\, CO\, 80016\, United States
END:VEVENT
BEGIN:VEVENT
DTSTART;TZID=America/Denver:20160813T110000
DTEND;TZID=America/Denver:20160813T140000
DTSTAMP:20260425T092359
CREATED:20160706T025544Z
LAST-MODIFIED:20160706T025544Z
UID:8117-1471086000-1471096800@copugrescue.org
SUMMARY:Riley's Natural Pet Store Meet-and-Greet
DESCRIPTION:
URL:https://copugrescue.org/events/rileys-natural-pet-store-meet-greet/
LOCATION:Riley’s Natural Pet Supply\, 7580 S. Pierce St.\, Suite 5\, Littleton\, CO\, 80128\, United States
END:VEVENT
BEGIN:VEVENT
DTSTART;TZID=America/Denver:20160729T120000
DTEND;TZID=America/Denver:20160731T180000
DTSTAMP:20260425T092359
CREATED:20160416T022022Z
LAST-MODIFIED:20160601T225959Z
UID:7998-1469793600-1469988000@copugrescue.org
SUMMARY:Denver County Fair
DESCRIPTION:Times vary by date as follows: \n     7/29:  4 pm – 9 pm\n     7/30:  10 am – 8 pm\n     7/31:  10 am – 6 pm \nAdvance Tickets can be purchased through the Denver County Fair website. Advance prices are $10 for Adults\, $5 for Kids\, Seniors and Military; Children 4 and under are FREE.
URL:https://copugrescue.org/events/denver-county-fair-2/
LOCATION:National Western Complex\, 4655 Humboldt St.\, Denver\, CO\, 80216\, United States
END:VEVENT
BEGIN:VEVENT
DTSTART;TZID=America/Denver:20160716T120000
DTEND;TZID=America/Denver:20160716T150000
DTSTAMP:20260425T092359
CREATED:20160416T021355Z
LAST-MODIFIED:20160416T021355Z
UID:7997-1468670400-1468681200@copugrescue.org
SUMMARY:Furry Friends Meet and Greet
DESCRIPTION:
URL:https://copugrescue.org/events/furry-friends-meet-greet-2/
LOCATION:Furry Friends Retail Store and Dog Wash\, 3586 C Hartsel Dr. (Woodmen/Lexington)\, Colorado Springs\, CO\, 80920\, United States
END:VEVENT
BEGIN:VEVENT
DTSTART;TZID=America/Denver:20160618T110000
DTEND;TZID=America/Denver:20160618T140000
DTSTAMP:20260425T092359
CREATED:20160416T021212Z
LAST-MODIFIED:20160416T021212Z
UID:7996-1466247600-1466258400@copugrescue.org
SUMMARY:Meet and Greet
DESCRIPTION:
URL:https://copugrescue.org/events/meet-and-greet/
LOCATION:Chuck & Don’s Pet Food Outlet – Aurora\, 6380 S. Parker Rd.\, Suite 107\, Aurora\, CO\, 80016\, United States
END:VEVENT
BEGIN:VEVENT
DTSTART;TZID=America/Denver:20160612T110000
DTEND;TZID=America/Denver:20160612T160000
DTSTAMP:20260425T092359
CREATED:20160502T015017Z
LAST-MODIFIED:20160522T202528Z
UID:8042-1465729200-1465747200@copugrescue.org
SUMMARY:New Date - Poker for Pugs
DESCRIPTION:Check-in is at 11:00 a.m. Play begins at noon. There is a $50 buy in with re-buys for 4 hours. \nWant $5000 in extra chips? Reserve a seat in advance by e-mailing luvapugjf@comcast.net \nThis activity is being independently organized as a benefit for Colorado Pug Rescue. Colorado Pug Rescue is not sponsoring or conducting this event.
URL:https://copugrescue.org/events/poker-pugs-2/
LOCATION:Brewski’s Pub & Grill\, 2100 E. 104th Ave.\, Thornton\, CO\, 80233\, United States
END:VEVENT
BEGIN:VEVENT
DTSTART;TZID=America/Denver:20160611T120000
DTEND;TZID=America/Denver:20160611T150000
DTSTAMP:20260425T092359
CREATED:20160416T020923Z
LAST-MODIFIED:20160416T020923Z
UID:7994-1465646400-1465657200@copugrescue.org
SUMMARY:Furry Friends Meet and Greet
DESCRIPTION:
URL:https://copugrescue.org/events/furry-friends-meet-greet/
LOCATION:Furry Friends Retail Store and Dog Wash\, 3586 C Hartsel Dr. (Woodmen/Lexington)\, Colorado Springs\, CO\, 80920\, United States
END:VEVENT
BEGIN:VEVENT
DTSTART;TZID=America/Denver:20160604T120000
DTEND;TZID=America/Denver:20160604T150000
DTSTAMP:20260425T092359
CREATED:20160307T030717Z
LAST-MODIFIED:20160505T203504Z
UID:7935-1465041600-1465052400@copugrescue.org
SUMMARY:New Date - Cinco de Pugo!
DESCRIPTION:Admission is $5 per family and includes participation in the dog costume contest and all other Cinco de Pugo activities\, plus a prize ticket. There will be a food truck and beer. St. Patrick’s Brewing Company is donating 10% of beer sales back to CPR.
URL:https://copugrescue.org/events/cinco-de-pugo/
LOCATION:St. Patrick’s Brewing Company\, 2842 W. Bowles Ave.\, Littleton\, CO\, United States
END:VEVENT
BEGIN:VEVENT
DTSTART;TZID=America/Denver:20160521T110000
DTEND;TZID=America/Denver:20160521T140000
DTSTAMP:20260425T092359
CREATED:20160416T020637Z
LAST-MODIFIED:20160416T021011Z
UID:7992-1463828400-1463839200@copugrescue.org
SUMMARY:Kriser's Meet and Greet
DESCRIPTION:
URL:https://copugrescue.org/events/krisers-meet-greet/
LOCATION:Kriser’s Englewood\, 3475 S. University Blvd.\, Englewood\, CO\, 80113\, United States
END:VEVENT
BEGIN:VEVENT
DTSTART;TZID=America/Denver:20160514T100000
DTEND;TZID=America/Denver:20160514T160000
DTSTAMP:20260425T092359
CREATED:20160429T221219Z
LAST-MODIFIED:20160429T221219Z
UID:8039-1463220000-1463241600@copugrescue.org
SUMMARY:Petco Rescue Event
DESCRIPTION:Multiple rescues will be participating.
URL:https://copugrescue.org/events/petco-rescue-event/
LOCATION:Petco CO Spr North\, 5020 N. Nevada Ave.\, Suite 100\, Colorado Springs\, CO\, 80918\, United States
END:VEVENT
BEGIN:VEVENT
DTSTART;TZID=America/Denver:20160423T090000
DTEND;TZID=America/Denver:20160424T160000
DTSTAMP:20260425T092359
CREATED:20160307T030353Z
LAST-MODIFIED:20160307T030353Z
UID:7933-1461402000-1461513600@copugrescue.org
SUMMARY:Colorado Springs Pet Expo
DESCRIPTION:Open 9:00 a.m. to 6:00 p.m. Saturday and 11:00 a.m to 4:00 p.m. Sunday. \nExpo admission is $7 for adults and $4 for youth ages 11-16. Children 10 and under are free.
URL:https://copugrescue.org/events/colorado-springs-pet-expo-2/
LOCATION:Colorado Springs Event Center\, 3960 Palmer Park Blvd.\, Colorado Springs\, CO\, 80909\, United States
END:VEVENT
BEGIN:VEVENT
DTSTART;TZID=America/Denver:20160417T100000
DTEND;TZID=America/Denver:20160417T160000
DTSTAMP:20260425T092359
CREATED:20160307T025436Z
LAST-MODIFIED:20160414T041647Z
UID:7931-1460887200-1460908800@copugrescue.org
SUMMARY:Canceled... Chieftain Pet Expo
DESCRIPTION:Canceled!!!!! Colorado Pug Rescue will not be able to attend because the date of this event was changed\, and we have a prior commitment on the new date.
URL:https://copugrescue.org/events/chieftain-pet-expo/
LOCATION:CO
END:VEVENT
BEGIN:VEVENT
DTSTART;TZID=America/Denver:20160416T110000
DTEND;TZID=America/Denver:20160416T140000
DTSTAMP:20260425T092359
CREATED:20160307T024938Z
LAST-MODIFIED:20160416T154148Z
UID:7930-1460804400-1460815200@copugrescue.org
SUMMARY:Canceled - Chuck & Don's Meet-and-Greet
DESCRIPTION:Canceled due to hazardous roads.
URL:https://copugrescue.org/events/chuck-dons-meet-and-greet-2/
LOCATION:Chuck & Don’s Pet Food Outlet – Aurora\, 6380 S. Parker Rd.\, Suite 107\, Aurora\, CO\, 80016\, United States
END:VEVENT
BEGIN:VEVENT
DTSTART;TZID=America/Denver:20160319T110000
DTEND;TZID=America/Denver:20160319T140000
DTSTAMP:20260425T092359
CREATED:20160307T024641Z
LAST-MODIFIED:20160307T024641Z
UID:7927-1458385200-1458396000@copugrescue.org
SUMMARY:Pug Pictures with the Easter Bunny
DESCRIPTION:
URL:https://copugrescue.org/events/pug-pictures-easter-bunny/
LOCATION:Destiny’s Paws\, 5950 S. Platte Canyon Rd.\, Ste D-5\, Littleton\, CO\, United States
END:VEVENT
BEGIN:VEVENT
DTSTART;TZID=America/Denver:20160227T110000
DTEND;TZID=America/Denver:20160227T140000
DTSTAMP:20260425T092359
CREATED:20160206T202226Z
LAST-MODIFIED:20160206T202226Z
UID:7886-1456570800-1456581600@copugrescue.org
SUMMARY:Leap Year Meet and Greet
DESCRIPTION:
URL:https://copugrescue.org/events/leap-year-meet-greet/
LOCATION:Chuck & Don’s Pet Food Outlet – Aurora\, 6380 S. Parker Rd.\, Suite 107\, Aurora\, CO\, 80016\, United States
END:VEVENT
BEGIN:VEVENT
DTSTART;TZID=America/Denver:20160213T110000
DTEND;TZID=America/Denver:20160213T160000
DTSTAMP:20260425T092359
CREATED:20160120T065100Z
LAST-MODIFIED:20160120T065100Z
UID:7880-1455361200-1455379200@copugrescue.org
SUMMARY:Poker for Pugs
DESCRIPTION:To view the flyer with event details\, please click here.
URL:https://copugrescue.org/events/poker-for-pugs/
LOCATION:Brewski’s Pub & Grill\, 2100 E. 104th Ave.\, Thornton\, CO\, 80233\, United States
END:VEVENT
BEGIN:VEVENT
DTSTART;TZID=America/Denver:20160130T110000
DTEND;TZID=America/Denver:20160130T140000
DTSTAMP:20260425T092359
CREATED:20160104T180211Z
LAST-MODIFIED:20160104T180211Z
UID:7866-1454151600-1454162400@copugrescue.org
SUMMARY:Petco Meet and Greet
DESCRIPTION:
URL:https://copugrescue.org/events/petco-meet-and-greet/
LOCATION:Petco Aurora\, 16960 Quincy Avenue\, Aurora\, CO\, 80015\, United States
END:VEVENT
BEGIN:VEVENT
DTSTART;TZID=America/Denver:20160109T110000
DTEND;TZID=America/Denver:20160109T140000
DTSTAMP:20260425T092359
CREATED:20151113T053035Z
LAST-MODIFIED:20151113T053035Z
UID:7831-1452337200-1452348000@copugrescue.org
SUMMARY:Unleashed at Petco Meet and Greet
DESCRIPTION:
URL:https://copugrescue.org/events/unleashed-at-petco-meet-and-greet/
LOCATION:Petco Highl Ranch\, 9567 S. University Blvd.\, A101\, Highlands Ranch\, CO\, United States
END:VEVENT
BEGIN:VEVENT
DTSTART;TZID=America/Denver:20151212T110000
DTEND;TZID=America/Denver:20151212T140000
DTSTAMP:20260425T092359
CREATED:20151113T052812Z
LAST-MODIFIED:20151113T052812Z
UID:7829-1449918000-1449928800@copugrescue.org
SUMMARY:Pugly Holiday Sweater Party
DESCRIPTION:
URL:https://copugrescue.org/events/pugly-holiday-sweater-party-2/
LOCATION:CO
END:VEVENT
BEGIN:VEVENT
DTSTART;TZID=America/Denver:20151206T110000
DTEND;TZID=America/Denver:20151206T140000
DTSTAMP:20260425T092359
CREATED:20151113T052243Z
LAST-MODIFIED:20151113T052243Z
UID:7827-1449399600-1449410400@copugrescue.org
SUMMARY:Christkindl Market
DESCRIPTION:
URL:https://copugrescue.org/events/christkindl-market/
LOCATION:Woofs and Hoofs\, 7620 S. Alkire Pl.\, Littleton\, CO\, 80127\, United States
END:VEVENT
END:VCALENDAR