BEGIN:VCALENDAR
VERSION:2.0
PRODID:-//Colorado Pug Rescue - ECPv6.15.1.1//NONSGML v1.0//EN
CALSCALE:GREGORIAN
METHOD:PUBLISH
X-WR-CALNAME:Colorado Pug Rescue
X-ORIGINAL-URL:https://copugrescue.org
X-WR-CALDESC:Events for Colorado Pug Rescue
REFRESH-INTERVAL;VALUE=DURATION:PT1H
X-Robots-Tag:noindex
X-PUBLISHED-TTL:PT1H
BEGIN:VTIMEZONE
TZID:America/Denver
BEGIN:DAYLIGHT
TZOFFSETFROM:-0700
TZOFFSETTO:-0600
TZNAME:MDT
DTSTART:20160313T090000
END:DAYLIGHT
BEGIN:STANDARD
TZOFFSETFROM:-0600
TZOFFSETTO:-0700
TZNAME:MST
DTSTART:20161106T080000
END:STANDARD
BEGIN:DAYLIGHT
TZOFFSETFROM:-0700
TZOFFSETTO:-0600
TZNAME:MDT
DTSTART:20170312T090000
END:DAYLIGHT
BEGIN:STANDARD
TZOFFSETFROM:-0600
TZOFFSETTO:-0700
TZNAME:MST
DTSTART:20171105T080000
END:STANDARD
BEGIN:DAYLIGHT
TZOFFSETFROM:-0700
TZOFFSETTO:-0600
TZNAME:MDT
DTSTART:20180311T090000
END:DAYLIGHT
BEGIN:STANDARD
TZOFFSETFROM:-0600
TZOFFSETTO:-0700
TZNAME:MST
DTSTART:20181104T080000
END:STANDARD
END:VTIMEZONE
BEGIN:VEVENT
DTSTART;VALUE=DATE:20180427
DTEND;VALUE=DATE:20180430
DTSTAMP:20260425T042035
CREATED:20180117T231315Z
LAST-MODIFIED:20180408T224308Z
UID:9035-1524787200-1525046399@copugrescue.org
SUMMARY:Colorado Springs Pet Expo
DESCRIPTION:Event times are: \n         April 27 – 4 pm to 7 pm \n         April 28 – 9 am to 5 pm \n         April 29 – 11 am to 4 pm
URL:https://copugrescue.org/events/colorado-springs-pet-expo-4/
LOCATION:Colorado Springs Event Center\, 3960 Palmer Park Blvd.\, Colorado Springs\, CO\, 80909\, United States
END:VEVENT
BEGIN:VEVENT
DTSTART;TZID=America/Denver:20180324T110000
DTEND;TZID=America/Denver:20180324T140000
DTSTAMP:20260425T042035
CREATED:20180117T230754Z
LAST-MODIFIED:20180117T230754Z
UID:9033-1521889200-1521900000@copugrescue.org
SUMMARY:Meet and Greet
DESCRIPTION:
URL:https://copugrescue.org/events/meet-and-greet-4/
LOCATION:Riley’s Natural Pet Supply\, 7580 S. Pierce St.\, Suite 5\, Littleton\, CO\, 80128\, United States
END:VEVENT
BEGIN:VEVENT
DTSTART;TZID=America/Denver:20180210T120000
DTEND;TZID=America/Denver:20180210T150000
DTSTAMP:20260425T042035
CREATED:20171106T000144Z
LAST-MODIFIED:20171106T000144Z
UID:8934-1518264000-1518274800@copugrescue.org
SUMMARY:CPR Love-a-Pug Meet and Greet
DESCRIPTION:
URL:https://copugrescue.org/events/cpr-love-pug-meet-greet/
LOCATION:Chuck & Don’s Pet Food Outlet – Aurora\, 6380 S. Parker Rd.\, Suite 107\, Aurora\, CO\, 80016\, United States
END:VEVENT
BEGIN:VEVENT
DTSTART;TZID=America/Denver:20180120T110000
DTEND;TZID=America/Denver:20180120T140000
DTSTAMP:20260425T042035
CREATED:20171003T191620Z
LAST-MODIFIED:20171003T191620Z
UID:8913-1516446000-1516456800@copugrescue.org
SUMMARY:New Year Meet-n-Greet
DESCRIPTION:
URL:https://copugrescue.org/events/new-year-meet-n-greet/
LOCATION:Chuck & Don’s HR\, 4008 Red Cedar Dr.\, Suite D2\, Highlands Ranch\, CO\, 80126\, United States
END:VEVENT
BEGIN:VEVENT
DTSTART;TZID=America/Denver:20171209T110000
DTEND;TZID=America/Denver:20171209T140000
DTSTAMP:20260425T042035
CREATED:20170429T222144Z
LAST-MODIFIED:20170429T222144Z
UID:8608-1512817200-1512828000@copugrescue.org
SUMMARY:Christmas Party
DESCRIPTION:
URL:https://copugrescue.org/events/christmas-party/
LOCATION:Chuck & Don’s Pet Food Outlet – Aurora\, 6380 S. Parker Rd.\, Suite 107\, Aurora\, CO\, 80016\, United States
END:VEVENT
BEGIN:VEVENT
DTSTART;TZID=America/Denver:20171104T110000
DTEND;TZID=America/Denver:20171104T140000
DTSTAMP:20260425T042035
CREATED:20171003T191050Z
LAST-MODIFIED:20171003T191050Z
UID:8911-1509793200-1509804000@copugrescue.org
SUMMARY:Petco Meet-n-Greet
DESCRIPTION:
URL:https://copugrescue.org/events/petco-meet-n-greet/
LOCATION:Petco CO Spgs East\, 1650 E. Cheyenne Mountain Blvd.\, Colorado Springs\, CO\, 80906\, United States
END:VEVENT
BEGIN:VEVENT
DTSTART;TZID=America/Denver:20171021T110000
DTEND;TZID=America/Denver:20171021T140000
DTSTAMP:20260425T042035
CREATED:20170429T222050Z
LAST-MODIFIED:20170429T222214Z
UID:8606-1508583600-1508594400@copugrescue.org
SUMMARY:Halloween Party
DESCRIPTION:
URL:https://copugrescue.org/events/halloween-party/
LOCATION:Chuck & Don’s Pet Food Outlet – Aurora\, 6380 S. Parker Rd.\, Suite 107\, Aurora\, CO\, 80016\, United States
END:VEVENT
BEGIN:VEVENT
DTSTART;TZID=America/Denver:20171007T110000
DTEND;TZID=America/Denver:20171007T140000
DTSTAMP:20260425T042035
CREATED:20171003T190348Z
LAST-MODIFIED:20171003T190348Z
UID:8907-1507374000-1507384800@copugrescue.org
SUMMARY:Meet-n-Greet
DESCRIPTION:
URL:https://copugrescue.org/events/meet-n-greet/
LOCATION:Chuck & Don’s Littleton\, 9868 W. Belleview Ave.\, Littleton\, CO\, 80123\, United States
END:VEVENT
BEGIN:VEVENT
DTSTART;TZID=America/Denver:20170917T110000
DTEND;TZID=America/Denver:20170917T160000
DTSTAMP:20260425T042035
CREATED:20170429T221928Z
LAST-MODIFIED:20170429T221928Z
UID:8604-1505646000-1505664000@copugrescue.org
SUMMARY:Pugs in the Park
DESCRIPTION:
URL:https://copugrescue.org/events/pugs-in-the-park-2/
LOCATION:Central Park\, 8801 E. Martin Luther King Blvd.\, Denver\, CO\, 80238\, United States
END:VEVENT
BEGIN:VEVENT
DTSTART;TZID=America/Denver:20170819T100000
DTEND;TZID=America/Denver:20170820T160000
DTSTAMP:20260425T042035
CREATED:20170429T221814Z
LAST-MODIFIED:20170815T230637Z
UID:8602-1503136800-1503244800@copugrescue.org
SUMMARY:Denver Pet Expo
DESCRIPTION:Change of location!
URL:https://copugrescue.org/events/denver-pet-expo-3/
LOCATION:National Western Complex\, 4655 Humboldt St.\, Denver\, CO\, 80216\, United States
END:VEVENT
BEGIN:VEVENT
DTSTART;TZID=America/Denver:20170729T110000
DTEND;TZID=America/Denver:20170729T140000
DTSTAMP:20260425T042035
CREATED:20170623T171836Z
LAST-MODIFIED:20170623T171836Z
UID:8743-1501326000-1501336800@copugrescue.org
SUMMARY:Doggy Ice Cream Social
DESCRIPTION:Frozen treats especially for dogs
URL:https://copugrescue.org/events/doggy-ice-cream-social-2/
LOCATION:Bentley’s Pet Stuff – Littleton\, 6692 W. Coal Mine Ave.\, Littleton\, CO\, 80123\, United States
END:VEVENT
BEGIN:VEVENT
DTSTART;TZID=America/Denver:20170722T110000
DTEND;TZID=America/Denver:20170722T140000
DTSTAMP:20260425T042035
CREATED:20170623T171154Z
LAST-MODIFIED:20170623T171218Z
UID:8740-1500721200-1500732000@copugrescue.org
SUMMARY:Meet-and-Greet
DESCRIPTION:
URL:https://copugrescue.org/events/meet-and-greet-3/
LOCATION:Riley’s Natural Pet Supply\, 7580 S. Pierce St.\, Suite 5\, Littleton\, CO\, 80128\, United States
END:VEVENT
BEGIN:VEVENT
DTSTART;TZID=America/Denver:20170624T110000
DTEND;TZID=America/Denver:20170624T140000
DTSTAMP:20260425T042035
CREATED:20170429T221430Z
LAST-MODIFIED:20170623T170632Z
UID:8597-1498302000-1498312800@copugrescue.org
SUMMARY:Pet Supplies Plus\, Meet-and-Greet/Dog Wash
DESCRIPTION:Give your dog a bath and help Colorado Pug Rescue! Half the proceeds will be donated to us. Soap\, towels\, and blow dryers provided. BYOB (Bring your own brushes!).
URL:https://copugrescue.org/events/pet-supplies-plus-meet-greetdog-wash/
LOCATION:Pet Supplies Plus\, 8175 Sheridan Blvd.\, Unit A\, Arvada\, CO\, 80003\, United States
END:VEVENT
BEGIN:VEVENT
DTSTART;TZID=America/Denver:20170603T110000
DTEND;TZID=America/Denver:20170603T140000
DTSTAMP:20260425T042035
CREATED:20170429T221229Z
LAST-MODIFIED:20170429T221505Z
UID:8594-1496487600-1496498400@copugrescue.org
SUMMARY:Petco Meet-and-Greet
DESCRIPTION:
URL:https://copugrescue.org/events/petco-meet-greet-3/
LOCATION:Petco Westminster\, 10355 Federal Blvd. E\, Westminster\, CO\, 80260\, United States
END:VEVENT
BEGIN:VEVENT
DTSTART;TZID=America/Denver:20170521T130000
DTEND;TZID=America/Denver:20170521T170000
DTSTAMP:20260425T042035
CREATED:20170517T190456Z
LAST-MODIFIED:20170517T190456Z
UID:8627-1495371600-1495386000@copugrescue.org
SUMMARY:LuLaRoe Retailers for CO Pug Rescue
DESCRIPTION:This fundraiser is being held by 12 LuLaRoe retailers to benefit Colorado Pug Rescue.
URL:https://copugrescue.org/events/lularoe-retailers-co-pug-rescue/
LOCATION:Summit Dog Training\, 1409 E. Olive Ct.\, Fort Collins\, CO\, United States
END:VEVENT
BEGIN:VEVENT
DTSTART;TZID=America/Denver:20170520T110000
DTEND;TZID=America/Denver:20170520T140000
DTSTAMP:20260425T042035
CREATED:20170306T213118Z
LAST-MODIFIED:20170306T213118Z
UID:8472-1495278000-1495288800@copugrescue.org
SUMMARY:Meet-and-Greet
DESCRIPTION:Come to Bentley’s to meet some adoptable pugs and shop at our merchandise table.
URL:https://copugrescue.org/events/meet-and-greet-2/
LOCATION:CO
END:VEVENT
BEGIN:VEVENT
DTSTART;TZID=America/Denver:20170513T123000
DTEND;TZID=America/Denver:20170513T170000
DTSTAMP:20260425T042035
CREATED:20170306T212604Z
LAST-MODIFIED:20170408T224031Z
UID:8452-1494678600-1494694800@copugrescue.org
SUMMARY:Colorado Rapids Canine Rescue Day
DESCRIPTION:Please join us May 13 for the Rapids game against the San Jose Earthquakes. We will have booth space in the covered concourse before the game from 12:30 to 2:00. Game seats are in the south endline. Event tickets are $28 apiece\, and Colorado Pug Rescue will receive a $5 donation for every ticket sold using this dedicated link: http://www.rapidstix.com/copugrescue  \n 
URL:https://copugrescue.org/events/colorado-rapids-canine-rescue-day/
LOCATION:Dick’s Sporting Goods Park\, 6000 Victory Way\, Commerce\, CO\, 80022\, United States
END:VEVENT
BEGIN:VEVENT
DTSTART;TZID=America/Denver:20170422T090000
DTEND;TZID=America/Denver:20170423T160000
DTSTAMP:20260425T042035
CREATED:20170124T232743Z
LAST-MODIFIED:20170306T222213Z
UID:8383-1492851600-1492963200@copugrescue.org
SUMMARY:Colorado Springs Pet Expo
DESCRIPTION:4/22:  9 am – 5 pm\n4/23:  11 am – 4 pm\n  \n\n\n\n\n\n\n\n\n\n\n\n\n\n\n\n\n\n\nAdults:  $7\nYouth 11-16:  $4\nChildren 10 and under:  free\n***If you volunteer at the CPR booth\, admission is free***\n  \n\n\n\n\n\n\n\n\n\n\n\n\n\n\n\n\n\n\nPet Waiver (if you plan on bringing a pup):\nhttp://rjpromotions.com/wp-content/uploads/2013/10/Pet-Waiver-CO1.pdf
URL:https://copugrescue.org/events/colorado-springs-pet-expo-3/
LOCATION:Colorado Springs Event Center\, 3960 Palmer Park Blvd.\, Colorado Springs\, CO\, 80909\, United States
END:VEVENT
BEGIN:VEVENT
DTSTART;TZID=America/Denver:20170409T110000
DTEND;TZID=America/Denver:20170409T140000
DTSTAMP:20260425T042035
CREATED:20170124T232354Z
LAST-MODIFIED:20170306T222253Z
UID:8381-1491735600-1491746400@copugrescue.org
SUMMARY:Chuck & Don's Easter Party and Photos with the Easter Bunny
DESCRIPTION:
URL:https://copugrescue.org/events/chuck-dons-easter-party-photos-easter-bunny/
LOCATION:Chuck & Don’s Pet Food Outlet – Aurora\, 6380 S. Parker Rd.\, Suite 107\, Aurora\, CO\, 80016\, United States
END:VEVENT
BEGIN:VEVENT
DTSTART;TZID=America/Denver:20170311T110000
DTEND;TZID=America/Denver:20170311T140000
DTSTAMP:20260425T042035
CREATED:20170124T232046Z
LAST-MODIFIED:20170306T222336Z
UID:8378-1489230000-1489240800@copugrescue.org
SUMMARY:Kriser's St. Puggy's Day Party
DESCRIPTION:We hope you can join us for a St. Patrick’s Day Puggy Party on 3/11/17! Dress up your pugs in their Irish finery for prizes\, and take a photo in the Pug-in-a-Pot (of gold!)!
URL:https://copugrescue.org/events/krisers-st-puggys-day-party/
LOCATION:Kriser’s Denver\, 1910 Chestnut Place\, Denver\, CO\, 80202\, United States
END:VEVENT
BEGIN:VEVENT
DTSTART;TZID=America/Denver:20170225T110000
DTEND;TZID=America/Denver:20170225T140000
DTSTAMP:20260425T042035
CREATED:20170111T221506Z
LAST-MODIFIED:20170111T221506Z
UID:8367-1488020400-1488031200@copugrescue.org
SUMMARY:Chuck & Don's Meet-and-Greet
DESCRIPTION:
URL:https://copugrescue.org/events/chuck-dons-meet-greet/
LOCATION:Chuck & Don’s Westminster\, 4550 Main St.\, Ste. 300\, Westminster\, CO\, 80031\, United States
END:VEVENT
BEGIN:VEVENT
DTSTART;TZID=America/Denver:20170211T110000
DTEND;TZID=America/Denver:20170211T140000
DTSTAMP:20260425T042035
CREATED:20170111T221226Z
LAST-MODIFIED:20170111T221226Z
UID:8365-1486810800-1486821600@copugrescue.org
SUMMARY:Petco Be-My-Love-Pug Party
DESCRIPTION:
URL:https://copugrescue.org/events/petco-love-pug-party/
LOCATION:Petco CO Spgs East\, 1650 E. Cheyenne Mountain Blvd.\, Colorado Springs\, CO\, 80906\, United States
END:VEVENT
BEGIN:VEVENT
DTSTART;TZID=America/Denver:20170128T110000
DTEND;TZID=America/Denver:20170128T140000
DTSTAMP:20260425T042035
CREATED:20170111T221053Z
LAST-MODIFIED:20170111T221053Z
UID:8363-1485601200-1485612000@copugrescue.org
SUMMARY:Petco Meet-and-Greet
DESCRIPTION:
URL:https://copugrescue.org/events/petco-meet-greet-2/
LOCATION:Petco Highl Ranch\, 9567 S. University Blvd.\, A101\, Highlands Ranch\, CO\, United States
END:VEVENT
BEGIN:VEVENT
DTSTART;TZID=America/Denver:20170114T110000
DTEND;TZID=America/Denver:20170114T140000
DTSTAMP:20260425T042035
CREATED:20170111T220626Z
LAST-MODIFIED:20170111T220626Z
UID:8359-1484391600-1484402400@copugrescue.org
SUMMARY:Petco Meet-and-Greet
DESCRIPTION:
URL:https://copugrescue.org/events/petco-meet-greet/
LOCATION:Petco CO Spgs East\, 1650 E. Cheyenne Mountain Blvd.\, Colorado Springs\, CO\, 80906\, United States
END:VEVENT
BEGIN:VEVENT
DTSTART;TZID=America/Denver:20161211T110000
DTEND;TZID=America/Denver:20161211T140000
DTSTAMP:20260425T042035
CREATED:20161104T204104Z
LAST-MODIFIED:20161104T204104Z
UID:8261-1481454000-1481464800@copugrescue.org
SUMMARY:Pugly Holiday Sweater Party
DESCRIPTION:
URL:https://copugrescue.org/events/pugly-holiday-sweater-party-3/
LOCATION:Chuck & Don’s Pet Food Outlet – Aurora\, 6380 S. Parker Rd.\, Suite 107\, Aurora\, CO\, 80016\, United States
END:VEVENT
BEGIN:VEVENT
DTSTART;TZID=America/Denver:20161112T110000
DTEND;TZID=America/Denver:20161112T140000
DTSTAMP:20260425T042035
CREATED:20161104T203015Z
LAST-MODIFIED:20161104T203015Z
UID:8257-1478948400-1478959200@copugrescue.org
SUMMARY:Meet-n-Greet/Turkey Day Photos
DESCRIPTION:Bring your pug for a turkey photo op!
URL:https://copugrescue.org/events/meet-n-greetturkey-day-photos/
LOCATION:Kriser’s of Highlands Ranch\, 9362 S. Colorado Blvd.\, Highlands Ranch\, CO\, 80126\, United States
END:VEVENT
BEGIN:VEVENT
DTSTART;TZID=America/Denver:20161022T110000
DTEND;TZID=America/Denver:20161022T140000
DTSTAMP:20260425T042035
CREATED:20161003T190710Z
LAST-MODIFIED:20161004T230317Z
UID:8240-1477134000-1477144800@copugrescue.org
SUMMARY:Pug-o-ween Party
DESCRIPTION:Join us for free treats\, the CPR booth\, and a 12:30 costume contest!
URL:https://copugrescue.org/events/pug-o-ween-party/
LOCATION:Chuck & Don’s Pet Food Outlet – Lakewood\, 1535 S Kipling Pkwy.\, Lakewood\, CO\, United States
END:VEVENT
BEGIN:VEVENT
DTSTART;TZID=America/Denver:20161015T180000
DTEND;TZID=America/Denver:20161015T180000
DTSTAMP:20260425T042035
CREATED:20160911T205651Z
LAST-MODIFIED:20161003T191959Z
UID:8182-1476554400-1476554400@copugrescue.org
SUMMARY:Halloween Party Fundraiser
DESCRIPTION:We love pugs\, but this event is for humans only\, please. To purchase tickets\, please click here.
URL:https://copugrescue.org/events/halloween-party-fundraiser/
LOCATION:Deep Space Event Center\, 11020 S. Pikes Peak Dr.\, Parker\, CO\, 80138\, United States
END:VEVENT
BEGIN:VEVENT
DTSTART;VALUE=DATE:20160926
DTEND;VALUE=DATE:20161002
DTSTAMP:20260425T042035
CREATED:20160706T030038Z
LAST-MODIFIED:20160706T030038Z
UID:8119-1474848000-1475366399@copugrescue.org
SUMMARY:Pug Dog Club of America Nat'l Specialty
DESCRIPTION:Hours will be announced later.
URL:https://copugrescue.org/events/pug-dog-club-america-natl-specialty/
LOCATION:Crowne Plaza Hotel\, 15500 E. 40th St.\, Denver\, CO\, 80239\, United States
END:VEVENT
BEGIN:VEVENT
DTSTART;TZID=America/Denver:20160918T110000
DTEND;TZID=America/Denver:20160918T160000
DTSTAMP:20260425T042035
CREATED:20160416T022551Z
LAST-MODIFIED:20160416T022551Z
UID:8000-1474196400-1474214400@copugrescue.org
SUMMARY:Pugs in the Park
DESCRIPTION:
URL:https://copugrescue.org/events/pugs-park-2/
LOCATION:Central Park\, 8801 E. Martin Luther King Blvd.\, Denver\, CO\, 80238\, United States
END:VEVENT
END:VCALENDAR