BEGIN:VCALENDAR
VERSION:2.0
PRODID:-//Colorado Pug Rescue - ECPv6.15.1.1//NONSGML v1.0//EN
CALSCALE:GREGORIAN
METHOD:PUBLISH
X-WR-CALNAME:Colorado Pug Rescue
X-ORIGINAL-URL:https://copugrescue.org
X-WR-CALDESC:Events for Colorado Pug Rescue
REFRESH-INTERVAL;VALUE=DURATION:PT1H
X-Robots-Tag:noindex
X-PUBLISHED-TTL:PT1H
BEGIN:VTIMEZONE
TZID:America/Denver
BEGIN:DAYLIGHT
TZOFFSETFROM:-0700
TZOFFSETTO:-0600
TZNAME:MDT
DTSTART:20190310T090000
END:DAYLIGHT
BEGIN:STANDARD
TZOFFSETFROM:-0600
TZOFFSETTO:-0700
TZNAME:MST
DTSTART:20191103T080000
END:STANDARD
BEGIN:DAYLIGHT
TZOFFSETFROM:-0700
TZOFFSETTO:-0600
TZNAME:MDT
DTSTART:20200308T090000
END:DAYLIGHT
BEGIN:STANDARD
TZOFFSETFROM:-0600
TZOFFSETTO:-0700
TZNAME:MST
DTSTART:20201101T080000
END:STANDARD
BEGIN:DAYLIGHT
TZOFFSETFROM:-0700
TZOFFSETTO:-0600
TZNAME:MDT
DTSTART:20210314T090000
END:DAYLIGHT
BEGIN:STANDARD
TZOFFSETFROM:-0600
TZOFFSETTO:-0700
TZNAME:MST
DTSTART:20211107T080000
END:STANDARD
BEGIN:DAYLIGHT
TZOFFSETFROM:-0700
TZOFFSETTO:-0600
TZNAME:MDT
DTSTART:20220313T090000
END:DAYLIGHT
BEGIN:STANDARD
TZOFFSETFROM:-0600
TZOFFSETTO:-0700
TZNAME:MST
DTSTART:20221106T080000
END:STANDARD
BEGIN:DAYLIGHT
TZOFFSETFROM:-0700
TZOFFSETTO:-0600
TZNAME:MDT
DTSTART:20230312T090000
END:DAYLIGHT
BEGIN:STANDARD
TZOFFSETFROM:-0600
TZOFFSETTO:-0700
TZNAME:MST
DTSTART:20231105T080000
END:STANDARD
BEGIN:DAYLIGHT
TZOFFSETFROM:-0700
TZOFFSETTO:-0600
TZNAME:MDT
DTSTART:20240310T090000
END:DAYLIGHT
BEGIN:STANDARD
TZOFFSETFROM:-0600
TZOFFSETTO:-0700
TZNAME:MST
DTSTART:20241103T080000
END:STANDARD
BEGIN:DAYLIGHT
TZOFFSETFROM:-0700
TZOFFSETTO:-0600
TZNAME:MDT
DTSTART:20250309T090000
END:DAYLIGHT
BEGIN:STANDARD
TZOFFSETFROM:-0600
TZOFFSETTO:-0700
TZNAME:MST
DTSTART:20251102T080000
END:STANDARD
END:VTIMEZONE
BEGIN:VEVENT
DTSTART;TZID=America/Denver:20250607T110000
DTEND;TZID=America/Denver:20250607T140000
DTSTAMP:20260425T084147
CREATED:20250219T193154Z
LAST-MODIFIED:20250219T193154Z
UID:11949-1749294000-1749304800@copugrescue.org
SUMMARY:Summer Meet-n-Greet
DESCRIPTION:
URL:https://copugrescue.org/events/summer-meet-n-greet/
LOCATION:Chuck & Don’s HR\, 4008 Red Cedar Dr.\, Suite D2\, Highlands Ranch\, CO\, 80126\, United States
ORGANIZER;CN="Colorado Pug Rescue":MAILTO:cpr@copugrescue.org
END:VEVENT
BEGIN:VEVENT
DTSTART;TZID=America/Denver:20250412T110000
DTEND;TZID=America/Denver:20250412T140000
DTSTAMP:20260425T084147
CREATED:20250219T192716Z
LAST-MODIFIED:20250219T192716Z
UID:11945-1744455600-1744466400@copugrescue.org
SUMMARY:Easter Meet-n-Greet & Bunny Photos
DESCRIPTION:
URL:https://copugrescue.org/events/easter-meet-n-greet-bunny-photos/
LOCATION:Zoom Room Dog Training\, 8023 S. Broadway\, Littleton\, CO\, 80122\, United States
ORGANIZER;CN="Colorado Pug Rescue":MAILTO:cpr@copugrescue.org
END:VEVENT
BEGIN:VEVENT
DTSTART;TZID=America/Denver:20241214T110000
DTEND;TZID=America/Denver:20241214T140000
DTSTAMP:20260425T084147
CREATED:20241011T222525Z
LAST-MODIFIED:20241011T222525Z
UID:11903-1734174000-1734184800@copugrescue.org
SUMMARY:Holiday Party
DESCRIPTION:
URL:https://copugrescue.org/events/holiday-party/
LOCATION:Chuck & Don’s Pet Food Outlet – Aurora\, 6380 S. Parker Rd.\, Suite 107\, Aurora\, CO\, 80016\, United States
END:VEVENT
BEGIN:VEVENT
DTSTART;TZID=America/Denver:20241019T110000
DTEND;TZID=America/Denver:20241019T140000
DTSTAMP:20260425T084147
CREATED:20241011T222424Z
LAST-MODIFIED:20241011T222424Z
UID:11901-1729335600-1729346400@copugrescue.org
SUMMARY:Pug-o-Ween
DESCRIPTION:
URL:https://copugrescue.org/events/pug-o-ween-3/
LOCATION:Chuck & Don’s Pet Food Outlet – Aurora\, 6380 S. Parker Rd.\, Suite 107\, Aurora\, CO\, 80016\, United States
END:VEVENT
BEGIN:VEVENT
DTSTART;TZID=America/Denver:20231021T110000
DTEND;TZID=America/Denver:20231021T140000
DTSTAMP:20260425T084147
CREATED:20230520T221718Z
LAST-MODIFIED:20231005T234906Z
UID:11579-1697886000-1697896800@copugrescue.org
SUMMARY:Pug-o-Ween Party
DESCRIPTION:
URL:https://copugrescue.org/events/pug-o-ween-party-3/
LOCATION:Chuck & Don’s Pet Food Outlet – Aurora\, 6380 S. Parker Rd.\, Suite 107\, Aurora\, CO\, 80016\, United States
END:VEVENT
BEGIN:VEVENT
DTSTART;TZID=America/Denver:20231001T100000
DTEND;TZID=America/Denver:20231001T150000
DTSTAMP:20260425T084147
CREATED:20230520T221432Z
LAST-MODIFIED:20230520T221803Z
UID:11577-1696154400-1696172400@copugrescue.org
SUMMARY:Pugs in the Park
DESCRIPTION:
URL:https://copugrescue.org/events/pugs-in-the-park-7/
LOCATION:Redstone Park\, 3280 Redstone Park Circle\, Highlands Ranch\, CO\, 80129\, United States
END:VEVENT
BEGIN:VEVENT
DTSTART;TZID=America/Denver:20230617T110000
DTEND;TZID=America/Denver:20230617T140000
DTSTAMP:20260425T084147
CREATED:20230520T221123Z
LAST-MODIFIED:20230520T221123Z
UID:11575-1686999600-1687010400@copugrescue.org
SUMMARY:Meet-n-Greet
DESCRIPTION:
URL:https://copugrescue.org/events/meet-n-greet-15/
LOCATION:Riley’s Natural Pet Supply\, 7580 S. Pierce St.\, Suite 5\, Littleton\, CO\, 80128\, United States
END:VEVENT
BEGIN:VEVENT
DTSTART;TZID=America/Denver:20230204T110000
DTEND;TZID=America/Denver:20230204T140000
DTSTAMP:20260425T084147
CREATED:20230131T174504Z
LAST-MODIFIED:20230131T175122Z
UID:11486-1675508400-1675519200@copugrescue.org
SUMMARY:Valentine Meet-N-Greet
DESCRIPTION:
URL:https://copugrescue.org/events/valentine-meet-n-greet/
LOCATION:Chuck & Don’s Littleton\, 9868 W. Belleview Ave.\, Littleton\, CO\, 80123\, United States
END:VEVENT
BEGIN:VEVENT
DTSTART;TZID=America/Denver:20221210T110000
DTEND;TZID=America/Denver:20221210T110000
DTSTAMP:20260425T084147
CREATED:20221130T222954Z
LAST-MODIFIED:20221130T223012Z
UID:11442-1670670000-1670670000@copugrescue.org
SUMMARY:Pugly Sweater Holiday Party
DESCRIPTION:Dress up you puggie(s) in their favorite holiday sweaters and join us for photos with Santa\, our annual Pugly Sweater Contest\, and a great way to visit with fellow pug lovers.
URL:https://copugrescue.org/events/pugly-sweater-holiday-party/
LOCATION:Chuck & Don’s Pet Food Outlet – Aurora\, 6380 S. Parker Rd.\, Suite 107\, Aurora\, CO\, 80016\, United States
END:VEVENT
BEGIN:VEVENT
DTSTART;TZID=America/Denver:20221022T110000
DTEND;TZID=America/Denver:20221022T140000
DTSTAMP:20260425T084147
CREATED:20221008T020405Z
LAST-MODIFIED:20221008T020640Z
UID:11398-1666436400-1666447200@copugrescue.org
SUMMARY:Pug-o-Ween
DESCRIPTION:CPR-Halloween 2022
URL:https://copugrescue.org/events/pug-o-ween-2/
LOCATION:Chuck & Don’s Pet Food Outlet – Aurora\, 6380 S. Parker Rd.\, Suite 107\, Aurora\, CO\, 80016\, United States
END:VEVENT
BEGIN:VEVENT
DTSTART;TZID=America/Denver:20221002T100000
DTEND;TZID=America/Denver:20221002T150000
DTSTAMP:20260425T084147
CREATED:20220416T185347Z
LAST-MODIFIED:20220416T185347Z
UID:11323-1664704800-1664722800@copugrescue.org
SUMMARY:Pugs in the Park
DESCRIPTION:
URL:https://copugrescue.org/events/pugs-in-the-park-6/
LOCATION:Redstone Park\, 3280 Redstone Park Circle\, Highlands Ranch\, CO\, 80129\, United States
END:VEVENT
BEGIN:VEVENT
DTSTART;TZID=America/Denver:20220716T110000
DTEND;TZID=America/Denver:20220716T140000
DTSTAMP:20260425T084147
CREATED:20220704T060303Z
LAST-MODIFIED:20220704T060303Z
UID:11360-1657969200-1657980000@copugrescue.org
SUMMARY:Meet-n-Greet
DESCRIPTION:
URL:https://copugrescue.org/events/meet-n-greet-14/
LOCATION:Ace Hardware -Arvada\, 10000 Ralston Road\, Arvada\, CO\, 80004\, United States
END:VEVENT
BEGIN:VEVENT
DTSTART;TZID=America/Denver:20220507T110000
DTEND;TZID=America/Denver:20220507T140000
DTSTAMP:20260425T084147
CREATED:20220416T185957Z
LAST-MODIFIED:20220416T185957Z
UID:11326-1651921200-1651932000@copugrescue.org
SUMMARY:Cinco de Pug-o
DESCRIPTION:
URL:https://copugrescue.org/events/cinco-de-pug-o/
LOCATION:Chuck & Don’s HR\, 4008 Red Cedar Dr.\, Suite D2\, Highlands Ranch\, CO\, 80126\, United States
END:VEVENT
BEGIN:VEVENT
DTSTART;TZID=America/Denver:20220409T110000
DTEND;TZID=America/Denver:20220409T140000
DTSTAMP:20260425T084147
CREATED:20220312T231429Z
LAST-MODIFIED:20220312T231429Z
UID:11300-1649502000-1649512800@copugrescue.org
SUMMARY:Photos with the Easter Bunny
DESCRIPTION:
URL:https://copugrescue.org/events/photos-with-the-easter-bunny/
LOCATION:Bentley’s Pet Stuff – Barnes\, CO Spgs\, 5627 Barnes Rd.\, Suite 100\, Colorado Springs\, CO\, 80917\, United States
END:VEVENT
BEGIN:VEVENT
DTSTART;TZID=America/Denver:20211211T110000
DTEND;TZID=America/Denver:20211211T140000
DTSTAMP:20260425T084147
CREATED:20210922T201107Z
LAST-MODIFIED:20210922T201107Z
UID:11135-1639220400-1639231200@copugrescue.org
SUMMARY:Howliday Party
DESCRIPTION:
URL:https://copugrescue.org/events/howliday-party/
LOCATION:Chuck & Don’s Pet Food Outlet – Aurora\, 6380 S. Parker Rd.\, Suite 107\, Aurora\, CO\, 80016\, United States
END:VEVENT
BEGIN:VEVENT
DTSTART;TZID=America/Denver:20211023T110000
DTEND;TZID=America/Denver:20211023T140000
DTSTAMP:20260425T084147
CREATED:20210922T200541Z
LAST-MODIFIED:20210922T200541Z
UID:11133-1634986800-1634997600@copugrescue.org
SUMMARY:Pug-o-ween
DESCRIPTION:
URL:https://copugrescue.org/events/pug-o-ween/
LOCATION:Chuck & Don’s Pet Food Outlet – Aurora\, 6380 S. Parker Rd.\, Suite 107\, Aurora\, CO\, 80016\, United States
END:VEVENT
BEGIN:VEVENT
DTSTART;TZID=America/Denver:20210919T100000
DTEND;TZID=America/Denver:20210919T150000
DTSTAMP:20260425T084147
CREATED:20210717T181937Z
LAST-MODIFIED:20210717T181937Z
UID:11093-1632045600-1632063600@copugrescue.org
SUMMARY:Pugs in the Park
DESCRIPTION:
URL:https://copugrescue.org/events/pugs-in-the-park-5/
LOCATION:Central Park\, 8801 E. Martin Luther King Blvd.\, Denver\, CO\, 80238\, United States
END:VEVENT
BEGIN:VEVENT
DTSTART;TZID=America/Denver:20210423T080000
DTEND;TZID=America/Denver:20210425T170000
DTSTAMP:20260425T084147
CREATED:20200112T213310Z
LAST-MODIFIED:20200606T211113Z
UID:10232-1619164800-1619370000@copugrescue.org
SUMMARY:Colorado Springs Pet Expo
DESCRIPTION:These are the new dates due to COVID-19 restrictions
URL:https://copugrescue.org/events/colorado-springs-pet-expo-6/
LOCATION:Colorado Springs Event Center\, 3960 Palmer Park Blvd.\, Colorado Springs\, CO\, 80909\, United States
END:VEVENT
BEGIN:VEVENT
DTSTART;TZID=America/Denver:20201004T080000
DTEND;TZID=America/Denver:20201018T143000
DTSTAMP:20260425T084147
CREATED:20200831T015311Z
LAST-MODIFIED:20201011T031052Z
UID:10613-1601798400-1603031400@copugrescue.org
SUMMARY:Pugs on the Web
DESCRIPTION:Due to impossible COVID restrictions\, Pugs in the Park is going virtual this year. Here is a list of events. \n10/4: LIVE Welcome 2pm MDT on our Facebook page\n10/4 – 10/18: Online Auction\n10/5 – 10/10: T-shirt Contest\n10/11 – 10/16: Costume Contest\n10/17: Judging Day\n10/18: LIVE Close & Announce Winners 2pm MDT on our Facebook page\n \nPLEASE SUPPORT OUR EVENT VENDORS… \n\nUnique\, Whimsical Folk Art Animals for People \n***Want to be an event vendor? Sign up here.***
URL:https://copugrescue.org/events/pugs-on-the-web/
LOCATION:CO
END:VEVENT
BEGIN:VEVENT
DTSTART;TZID=America/Denver:20200725T120000
DTEND;TZID=America/Denver:20200725T140000
DTSTAMP:20260425T084147
CREATED:20200716T192547Z
LAST-MODIFIED:20200716T193531Z
UID:10525-1595678400-1595685600@copugrescue.org
SUMMARY:Kendra Gives Back
DESCRIPTION:July 25 and 26\, your Kendra Scott purchases will benefit Colorado Pug Rescue! Join us to meet a pug and shop in person at the Cherry Creek store from 12:00 until 2:00 Saturday\, July 25\, or use our dedicated code to shop on line July 25 and 26. Please use this link for details about the event and information about COVID-19 restrictions: https://givebackwithcoloradopug.splashthat.com
URL:https://copugrescue.org/events/kendra-gives-back/
LOCATION:Kendra Scott Cherry Creek\, 175 N Fillmore\, CO\, 80206\, United States
END:VEVENT
BEGIN:VEVENT
DTSTART;TZID=America/Denver:20200328T110000
DTEND;TZID=America/Denver:20200328T140000
DTSTAMP:20260425T084147
CREATED:20200131T220151Z
LAST-MODIFIED:20200716T193027Z
UID:10292-1585393200-1585404000@copugrescue.org
SUMMARY:Photos with the Easter Bunny
DESCRIPTION:
URL:https://copugrescue.org/events/pug-pics-with-the-easter-bunny/
LOCATION:Bentley’s Pet Stuff – Greenwood\, 8501 E. Arapahoe Rd.\, Suite B\, Greenwood Village\, CO\, 80112\, United States
END:VEVENT
BEGIN:VEVENT
DTSTART;TZID=America/Denver:20200222T110000
DTEND;TZID=America/Denver:20200222T140000
DTSTAMP:20260425T084147
CREATED:20200131T215732Z
LAST-MODIFIED:20200131T221021Z
UID:10288-1582369200-1582380000@copugrescue.org
SUMMARY:Meet-n-Greet
DESCRIPTION:
URL:https://copugrescue.org/events/meet-n-greet-13/
LOCATION:Bentley’s Pet Stuff – Voyager\, CO Spgs\, 13375 Voyager Pkwy.\, Suite 100\, Colorado Springs\, CO\, 80921\, United States
END:VEVENT
BEGIN:VEVENT
DTSTART;TZID=America/Denver:20200118T110000
DTEND;TZID=America/Denver:20200118T140000
DTSTAMP:20260425T084147
CREATED:20200112T213054Z
LAST-MODIFIED:20200112T213054Z
UID:10229-1579345200-1579356000@copugrescue.org
SUMMARY:Meet-n-Greet
DESCRIPTION:
URL:https://copugrescue.org/events/meet-n-greet-12/
LOCATION:Muttz Natural Pet Goods\, 11225 Decatur St.\, Suites 600 & 800\, Westminster\, CO\, 80234\, United States
END:VEVENT
BEGIN:VEVENT
DTSTART;TZID=America/Denver:20191215T110000
DTEND;TZID=America/Denver:20191215T140000
DTSTAMP:20260425T084147
CREATED:20190421T210902Z
LAST-MODIFIED:20190421T210902Z
UID:10036-1576407600-1576418400@copugrescue.org
SUMMARY:CPR Holiday Party
DESCRIPTION:
URL:https://copugrescue.org/events/cpr-holiday-party/
LOCATION:Chuck & Don’s Pet Food Outlet – Aurora\, 6380 S. Parker Rd.\, Suite 107\, Aurora\, CO\, 80016\, United States
END:VEVENT
BEGIN:VEVENT
DTSTART;TZID=America/Denver:20191123T120000
DTEND;TZID=America/Denver:20191123T130000
DTSTAMP:20260425T084147
CREATED:20191031T205150Z
LAST-MODIFIED:20191031T205220Z
UID:10169-1574510400-1574514000@copugrescue.org
SUMMARY:Pug Yoga
DESCRIPTION:Yes\, there will be pugs in the room doing yoga with us 🙂 This class will be 45 minutes long with no heat. All proceeds will go to CPR!
URL:https://copugrescue.org/events/pug-yoga/
LOCATION:Denver Bikram Yoga\, 2601 W. Frontview Crescent\, Unit 100A\, Denver\, CO\, 80211\, United States
ORGANIZER;CN="Denver Bikram Yoga":MAILTO:cpr@copugrescue.org
END:VEVENT
BEGIN:VEVENT
DTSTART;TZID=America/Denver:20191026T110000
DTEND;TZID=America/Denver:20191026T140000
DTSTAMP:20260425T084147
CREATED:20190421T210746Z
LAST-MODIFIED:20190421T210746Z
UID:10034-1572087600-1572098400@copugrescue.org
SUMMARY:CPR Pug-o-Ween Party
DESCRIPTION:
URL:https://copugrescue.org/events/cpr-pug-o-ween-party/
LOCATION:Chuck & Don’s Pet Food Outlet – Aurora\, 6380 S. Parker Rd.\, Suite 107\, Aurora\, CO\, 80016\, United States
END:VEVENT
BEGIN:VEVENT
DTSTART;TZID=America/Denver:20190915T100000
DTEND;TZID=America/Denver:20190915T150000
DTSTAMP:20260425T084147
CREATED:20190421T205202Z
LAST-MODIFIED:20190421T205202Z
UID:10032-1568541600-1568559600@copugrescue.org
SUMMARY:Pugs in the Park
DESCRIPTION:
URL:https://copugrescue.org/events/pugs-in-the-park-4/
LOCATION:Central Park\, 8801 E. Martin Luther King Blvd.\, Denver\, CO\, 80238\, United States
END:VEVENT
BEGIN:VEVENT
DTSTART;TZID=America/Denver:20190817T100000
DTEND;TZID=America/Denver:20190818T160000
DTSTAMP:20260425T084147
CREATED:20190420T225010Z
LAST-MODIFIED:20190421T205230Z
UID:10028-1566036000-1566144000@copugrescue.org
SUMMARY:Denver Pet Expo
DESCRIPTION:Event Times: \n8/17 – 10 am to 5 pm \n8/18 – 11 am to 4 pm \nPlease go here for ticket pricing: https://petexpos.ticketleap.com/denver-pet-expo-2018/ (yes\, the link is correct\, even though the date in the link is wrong)
URL:https://copugrescue.org/events/denver-pet-expo-5/
LOCATION:CO
END:VEVENT
BEGIN:VEVENT
DTSTART;TZID=America/Denver:20190629T110000
DTEND;TZID=America/Denver:20190629T140000
DTSTAMP:20260425T084147
CREATED:20190420T224225Z
LAST-MODIFIED:20190421T205239Z
UID:10025-1561806000-1561816800@copugrescue.org
SUMMARY:Meet-n-Greet
DESCRIPTION:
URL:https://copugrescue.org/events/meet-n-greet-11/
LOCATION:Chuck & Don’s\, Arvada\, 12393 W. 64th\, Arvada\, CO\, 80004\, United States
END:VEVENT
BEGIN:VEVENT
DTSTART;TZID=America/Denver:20190518T110000
DTEND;TZID=America/Denver:20190518T140000
DTSTAMP:20260425T084147
CREATED:20190420T223655Z
LAST-MODIFIED:20190421T205249Z
UID:10020-1558177200-1558188000@copugrescue.org
SUMMARY:Meet-n-Greet
DESCRIPTION:
URL:https://copugrescue.org/events/meet-n-greet-10/
LOCATION:Chuck & Don’s Greenwood Village\, 5926 S. Holly Rd.\, Greenwood Village\, CO\, 80111\, United States
END:VEVENT
END:VCALENDAR